BEGIN:VCALENDAR
VERSION:2.0
METHOD:PUBLISH
PRODID:-//Accessible Web Design//My Calendar//http://www.joedolson.com//v3.1.2//EN';
BEGIN:VEVENT
UID:48-802070
LOCATION:愛知県国際展示場1F 展示ホールF セントレア5-10-1  常滑市 愛知県 479-0881
SUMMARY:ジャパンレプタイルズショー in 愛知 (セントレア)
DTSTAMP:20260207T100000
ORGANIZER;CN=Wild Monster:MAILTO:webmaster@w-monster.com
DTSTART:20260207T100000
DTEND:20260208T170000
CATEGORIES:ワイモン参加イベント
URL;VALUE=URI:https://www.rep-japan.co.jp/jrs/centrair/
DESCRIPTION;ENCODING=QUOTED-PRINTABLE:2026年2月7日/8日に愛知県常滑市の愛知県国際展示場1F展示ホールFで初めて二日間開催される【 ジャパンレプタイルズショー in 愛知 (セントレア) 】に参加いたします！2026年はJRS横浜が諸事情により開催されなくなりましたので、その代わりかどうかはわかりませんが、愛知県でジャパンレプタイルズショーが開催される運びとなりました。私もJRS横浜がなくなったのは非常に残念です。JRS横浜が開催されない理由は某小林昆虫に問い合わせると教えてくれるかもしれません・・・JRS恒例のスペシャルゲストは通常日曜日だけですが、今回は7日と8日の両方に来ます。7日は どぶろっく 8日は カゲヤマ です！また、最近大人気の アクリリックレプタイルガーデン3020W を、セントレア初開催記念として 一個3,000円(限定50個) で、販売させていただきます。飼育ケース・紫外線ライト・ヒーター等々、ご期待に沿えるように激安で爬虫類飼育器具を持っていきますので、皆様よろしくお願いいたします。パネヒ類や、ズーメッドのクレステッドゲッコーフード、ジェイレップクリアピンセット等の新商品、ピタリ適温プラス、レパシースーパーフード等の定番商品も販売予定です！↓下記会場マップをクリックすると会場マップ詳細ページになります。↓ https://www.rep-japan.co.jp/jrs/centrair/
END:VEVENT
END:VCALENDAR